BEGIN:VCALENDAR
VERSION:2.0
PRODID:icalendar-ruby
CALSCALE:GREGORIAN
METHOD:PUBLISH
BEGIN:VEVENT
DTSTAMP:20260420T112250Z
UID:328-522284@pvbcwarsaw.com
DTSTART:20260505T210000Z
DTEND:20260506T010000Z
CLASS:PUBLIC
CREATED:20260325T151618
DESCRIPTION:
LAST-MODIFIED:20260325T151618
LOCATION:The Boathouse Restaurant in Winona Lake\, IN
SUMMARY:Women's Ministry Boathouse Dinner
URL;VALUE=URI:https://www.pvbcwarsaw.com/events/womens-ministry-boathouse-d
 inner/2026-05-05
ATTACH;FILENAME=May womens event.jpg;FMTTYPE=image/jpeg:https://dq5pwpg1q8r
 u0.cloudfront.net/2026/03/25/19/16/18/ebb87822-7374-4551-b9c2-90321f86c3e7
 /May%20womens%20event.jpg
END:VEVENT
END:VCALENDAR
