BEGIN:VCALENDAR
VERSION:2.0
PRODID:icalendar-ruby
CALSCALE:GREGORIAN
METHOD:PUBLISH
BEGIN:VEVENT
DTSTAMP:20260420T123517Z
UID:334-551618@pvbcwarsaw.com
DTSTART:20260601T223000Z
DTEND:20260601T233000Z
CLASS:PUBLIC
CREATED:20260414T132526
DESCRIPTION:Please cheer on the kids!
LAST-MODIFIED:20260414T132526
LOCATION:
SUMMARY:T-Ball game
URL;VALUE=URI:https://www.pvbcwarsaw.com/events/t-ball-game--334/2026-06-01
ATTACH;FILENAME=_T-ball logo.jpg;FMTTYPE=image/jpeg:https://dq5pwpg1q8ru0.c
 loudfront.net/2026/04/14/17/25/26/c0875961-d021-4535-b8e6-4f7ed6459070/_T-
 ball%20logo.jpg
END:VEVENT
END:VCALENDAR
