BEGIN:VCALENDAR
VERSION:2.0
PRODID:icalendar-ruby
CALSCALE:GREGORIAN
METHOD:PUBLISH
BEGIN:VEVENT
DTSTAMP:20260420T124321Z
UID:333-551614@pvbcwarsaw.com
DTSTART:20260528T223000Z
DTEND:20260528T233000Z
CLASS:PUBLIC
CREATED:20260414T132453
DESCRIPTION:Please cheer on the kids!
LAST-MODIFIED:20260414T132453
LOCATION:
SUMMARY:T-Ball game
URL;VALUE=URI:https://www.pvbcwarsaw.com/events/t-ball-game--333/2026-05-28
ATTACH;FILENAME=_T-ball logo.jpg;FMTTYPE=image/jpeg:https://dq5pwpg1q8ru0.c
 loudfront.net/2026/04/14/17/24/53/a3f22ec7-7a44-4c4b-ab79-5e763781f2cb/_T-
 ball%20logo.jpg
END:VEVENT
END:VCALENDAR
