BEGIN:VCALENDAR
VERSION:2.0
PRODID:icalendar-ruby
CALSCALE:GREGORIAN
METHOD:PUBLISH
BEGIN:VEVENT
DTSTAMP:20260424T131438Z
UID:6-566283@pvbcwarsaw.com
DTSTART:20261101T151500Z
DTEND:20261101T161500Z
CLASS:PUBLIC
CREATED:20260424T073002
DESCRIPTION:Sunday Worship
LAST-MODIFIED:20260424T073002
LOCATION:
SUMMARY:Sunday Worship
URL;VALUE=URI:https://www.pvbcwarsaw.com/events/sunday-worship/2026-11-01
ATTACH;FILENAME="Pleasant view Bible Church Warsaw, IN  Worship Setting 4.j
 pg";FMTTYPE=image/jpeg:https://dq5pwpg1q8ru0.cloudfront.net/2024/11/18/18/
 09/33/39977174-0fdb-4673-bbeb-e491fc66ef88/Pleasant%20view%20Bible%20Churc
 h%20Warsaw,%20IN%20%20Worship%20Setting%204.jpg
END:VEVENT
END:VCALENDAR
