BEGIN:VCALENDAR
VERSION:2.0
PRODID:icalendar-ruby
CALSCALE:GREGORIAN
METHOD:PUBLISH
BEGIN:VEVENT
DTSTAMP:20260420T111035Z
UID:330-532103@pvbcwarsaw.com
DTSTART:20260426T160000Z
DTEND:20260427T070000Z
CLASS:PUBLIC
CREATED:20260401T090950
DESCRIPTION:
LAST-MODIFIED:20260401T090950
LOCATION:
SUMMARY:Grief Share
URL;VALUE=URI:https://www.pvbcwarsaw.com/events/grief-share--330/2026-04-26
ATTACH;FILENAME=Pleasant View Bible Church fellowship 2.jpg;FMTTYPE=image/j
 peg:https://dq5pwpg1q8ru0.cloudfront.net/2026/04/01/13/09/49/7a9559e7-4b39
 -40a6-8924-96fefedcbbc9/Pleasant%20View%20Bible%20Church%20fellowship%202.
 jpg
END:VEVENT
END:VCALENDAR
