BEGIN:VCALENDAR
VERSION:2.0
PRODID:icalendar-ruby
CALSCALE:GREGORIAN
METHOD:PUBLISH
BEGIN:VEVENT
DTSTAMP:20260420T123304Z
UID:326-500574@pvbcwarsaw.com
DTSTART:20260726T220000Z
DTEND:20260726T230000Z
CLASS:PUBLIC
CREATED:20260310T154722
DESCRIPTION:
LAST-MODIFIED:20260310T154722
LOCATION:
SUMMARY:Church business meeting
URL;VALUE=URI:https://www.pvbcwarsaw.com/events/church-business-meeting--32
 6/2026-07-26
ATTACH;FILENAME=Congregational Meeting.jpg;FMTTYPE=image/jpeg:https://dq5pw
 pg1q8ru0.cloudfront.net/2026/03/10/19/47/21/0b2a680d-4f85-4a7a-928b-92bffe
 72d381/Congregational%20Meeting.jpg
END:VEVENT
END:VCALENDAR
