BEGIN:VCALENDAR
VERSION:2.0
PRODID:icalendar-ruby
CALSCALE:GREGORIAN
METHOD:PUBLISH
BEGIN:VEVENT
DTSTAMP:20260420T122750Z
UID:325-500573@pvbcwarsaw.com
DTSTART:20260726T220000Z
DTEND:20260726T230000Z
CLASS:PUBLIC
CREATED:20260310T154703
DESCRIPTION:
LAST-MODIFIED:20260310T154703
LOCATION:
SUMMARY:Church Business Meeting
URL;VALUE=URI:https://www.pvbcwarsaw.com/events/church-business-meeting--32
 5/2026-07-26
ATTACH;FILENAME=Congregational Meeting.jpg;FMTTYPE=image/jpeg:https://dq5pw
 pg1q8ru0.cloudfront.net/2026/03/10/19/47/03/71e461e9-54f1-4dd0-8ce2-91669e
 1d7116/Congregational%20Meeting.jpg
END:VEVENT
END:VCALENDAR
