BEGIN:VCALENDAR
VERSION:2.0
PRODID:icalendar-ruby
CALSCALE:GREGORIAN
METHOD:PUBLISH
BEGIN:VEVENT
DTSTAMP:20260420T122021Z
UID:331-532104@pvbcwarsaw.com
DTSTART:20261122T230000Z
DTEND:20261123T000000Z
CLASS:PUBLIC
CREATED:20260401T091143
DESCRIPTION:
LAST-MODIFIED:20260401T091143
LOCATION:
SUMMARY:Church Annual Meeting
URL;VALUE=URI:https://www.pvbcwarsaw.com/events/church-annual-meeting/2026-
 11-22
ATTACH;FILENAME=Pleasant View Bible Church fellowship 1.jpg;FMTTYPE=image/j
 peg:https://dq5pwpg1q8ru0.cloudfront.net/2026/04/01/13/11/43/2d5932a2-3c21
 -461f-87d5-97b49168222b/Pleasant%20View%20Bible%20Church%20fellowship%201.
 jpg
END:VEVENT
END:VCALENDAR
